BEGIN:VCALENDAR
VERSION:2.0
PRODID:-//eventon.com NONSGML v1.0//EN
BEGIN:VEVENT
UID:69e9aadd4ef4e
DTSTAMP:20260423T011509
DTSTART:20210511T190000Z
DTEND:20210512T035000Z
TZID:America/New_York
LOCATION:
SUMMARY:New Moon on May 11\,  2021
DESCRIPTION: The Moon is New in Taurus on May 11\,  2021\,  at 3:00 PM EDT. The following is the chart wheel of the Taurus New Moon in 2021. New Moon in Taurus Chart: May 11\,  2021 The New Moon in Taurus marks the beginning of a new cycle. The Aries New Moon[..]\nhttps://cafeastrology.com/events/new-moon-on-may-11-2021/
URL:https://cafeastrology.com/events/new-moon-on-may-11-2021/
END:VEVENT
END:VCALENDAR