BEGIN:VCALENDAR
VERSION:2.0
PRODID:-//eventon.com NONSGML v1.0//EN
BEGIN:VEVENT
UID:69e9aa992ce95
DTSTAMP:20260423T011401
DTSTART:20210427T033100Z
DTEND:20210427T035000Z
TZID:America/New_York
LOCATION:
SUMMARY:Full Moon on April 26\,  2021
DESCRIPTION: The Moon is Full in Scorpio on April 26\,  2021\,  at 11:31 PM EDT. Full Moon in Scorpio chart: April 26\,  2021 A Full Moon occurs when the Sun in Taurus forms an opposition to the Moon in Scorpio. The Full Moon is a time of culmination and the promise[..]\nhttps://cafeastrology.com/events/full-moon-on-april-26-2021/
URL:https://cafeastrology.com/events/full-moon-on-april-26-2021/
END:VEVENT
END:VCALENDAR