BEGIN:VCALENDAR
VERSION:2.0
PRODID:-//eventon.com NONSGML v1.0//EN
BEGIN:VEVENT
UID:69e9aa3d183bb
DTSTAMP:20260423T011229
DTSTART:20210423T114800Z
DTEND:20210424T035000Z
TZID:America/New_York
LOCATION:All World
SUMMARY:Mars enters Cancer
DESCRIPTION: Mars enters Cancer Mars is in Cancer from April 23-June 11 2021. We pursue our interests ardently\,  but we avoid a direct approach to going after we want. As well\,  our goals and plans are subject to mood swings and vacillations. We are defensive rather than overtly aggressive. Much of what[..]\nhttps://cafeastrology.com/events/mars-enters-cancer-2021/
URL:https://cafeastrology.com/events/mars-enters-cancer-2021/
END:VEVENT
END:VCALENDAR