BEGIN:VCALENDAR
VERSION:2.0
PRODID:-//eventon.com NONSGML v1.0//EN
BEGIN:VEVENT
UID:69e9aa18b166b
DTSTAMP:20260423T011152
DTSTART:20210509T020100Z
DTEND:20210509T035000Z
TZID:America/New_York
LOCATION:All World
SUMMARY:Venus enters Gemini
DESCRIPTION: Venus enters Gemini Venus is in Gemini from May 8-June 2\,  2021. In Gemini\,  we have a finger in every pie. Curiosity motivates us on romantic and social levels. &#8220;Variety is the spice of life&#8221; is the attitude now. We are sociable\,  communicative\,  and interested. We can be animated and fun but[..]\nhttps://cafeastrology.com/events/venus-enters-gemini-2021/
URL:https://cafeastrology.com/events/venus-enters-gemini-2021/
END:VEVENT
END:VCALENDAR