BEGIN:VCALENDAR
VERSION:2.0
PRODID:-//eventon.com NONSGML v1.0//EN
BEGIN:VEVENT
UID:69e9aa127b7b0
DTSTAMP:20260423T011146
DTSTART:20210504T024800Z
DTEND:20210504T035000Z
TZID:America/New_York
LOCATION:All World
SUMMARY:Mercury enters Gemini
DESCRIPTION: Mercury enters Gemini Mercury is in Gemini from May 3-July 11 2021. When Mercury is in Gemini\,  we are especially communicative\,  curious\,  and sociable. Mercury feels right at home in Gemini\,  one of the signs that it rules. We tend to take more pleasure in gaining a superficial knowledge of many subjects[..]\nhttps://cafeastrology.com/events/mercury-enters-gemini-2021/
URL:https://cafeastrology.com/events/mercury-enters-gemini-2021/
END:VEVENT
END:VCALENDAR