BEGIN:VCALENDAR
VERSION:2.0
PRODID:-//eventon.com NONSGML v1.0//EN
BEGIN:VEVENT
UID:69eab4d86347d
DTSTAMP:20260423T201000
DTSTART:20200623T043200Z
DTEND:20200624T035000Z
TZID:America/New_York
LOCATION:All World
SUMMARY:Neptune turns retrograde in Pisces
DESCRIPTION: Neptune now turns retrograde at 20° Pisces 58&#8242;. Each year\,  Neptune retrogrades for approximately 5 months. &nbsp; Neptune Retrograde Cycle in 2020 &nbsp; Neptune Retrograde Dates in 2020 On June 23\,  2020\,  Neptune turns retrograde at 20 Pisces 58 Rx and remains retrograde until November 28 2020\,  at 18 Pisces[..]\nhttps://cafeastrology.com/events/neptune-turns-retrograde-in-pisces-2020/
URL:https://cafeastrology.com/events/neptune-turns-retrograde-in-pisces-2020/
END:VEVENT
END:VCALENDAR