BEGIN:VCALENDAR
VERSION:2.0
PRODID:-//eventon.com NONSGML v1.0//EN
BEGIN:VEVENT
UID:69eab4bb71343
DTSTAMP:20260423T200931
DTSTART:20200618T045900Z
DTEND:20200619T035000Z
TZID:America/New_York
LOCATION:All World
SUMMARY:Mercury turns retrograde in Cancer
DESCRIPTION: Mercury turns retrograde at 14° Cancer 46&#8242; at 12:59 AM and will be retrograde for over three weeks. Mercury will be retrograde until July 12th. Mercury Retrograde Cycle June-July 2020 Mercury is retrograde from June 18th at 14° Cancer 46\,  until July 12\,  2020\,  at 5° Cancer 30. Mercury Retrograde Dates June[..]\nhttps://cafeastrology.com/events/mercury-turns-retrograde-in-cancer-2020/
URL:https://cafeastrology.com/events/mercury-turns-retrograde-in-cancer-2020/
END:VEVENT
END:VCALENDAR