BEGIN:VCALENDAR
VERSION:2.0
PRODID:-//eventon.com NONSGML v1.0//EN
BEGIN:VEVENT
UID:69eab529d60f1
DTSTAMP:20260423T201121
DTSTART:20200625T064800Z
DTEND:20200626T035000Z
TZID:America/New_York
LOCATION:All World
SUMMARY:Venus turns direct in Gemini
DESCRIPTION: Venus now turns direct at 5° Gemini 20&#8242; after several weeks of retrograde motion. Venus was retrograde from May 13th to June 25th\,  2020\,  starting at 21° Gemini 50\,  and turning direct now at 5° Gemini 20. [Venus entered the retrograde zone (shadow) on April 9th and leaves it July 29th][..]\nhttps://cafeastrology.com/events/venus-turns-direct-in-gemini-2020/
URL:https://cafeastrology.com/events/venus-turns-direct-in-gemini-2020/
END:VEVENT
END:VCALENDAR