BEGIN:VCALENDAR
VERSION:2.0
PRODID:-//eventon.com NONSGML v1.0//EN
BEGIN:VEVENT
UID:69eab4c1d2d12
DTSTAMP:20260423T200937
DTSTART:20200628T014500Z
DTEND:20200628T035000Z
TZID:America/New_York
LOCATION:All World
SUMMARY:Mars enters Aries
DESCRIPTION: Mars enters Aries Mars is in Aries from June 27\,  2020-January 6\,  2021. Mars feels at home in one of the signs that it rules\,  Aries\,  and therefore its power is boosted. Our energy is spontaneous\,  forward-looking\,  and even courageous under this influence. Our competitive spirit is well-developed\,  and our goal is to[..]\nhttps://cafeastrology.com/events/mars-enters-aries-2020/
URL:https://cafeastrology.com/events/mars-enters-aries-2020/
END:VEVENT
END:VCALENDAR