BEGIN:VCALENDAR
VERSION:2.0
PRODID:-//eventon.com NONSGML v1.0//EN
BEGIN:VEVENT
UID:69eab5191d03b
DTSTAMP:20260423T201105
DTSTART:20200620T214300Z
DTEND:20200621T035000Z
TZID:America/New_York
LOCATION:All World
SUMMARY:Sun enters Cancer
DESCRIPTION: Sun enters Cancer Sun is in Cancer from June 20-July 22\,  2020. We are self-protective and insular under this influence. Our attention turns to our nest&#8211;our families\,  homes\,  and anything that makes us feel &#8220;at home&#8221;\,  safe\,  and secure. Nurturing and taking care of our loved ones and our pet projects comes into focus.[..]\nhttps://cafeastrology.com/events/sun-enters-cancer-2020/
URL:https://cafeastrology.com/events/sun-enters-cancer-2020/
END:VEVENT
END:VCALENDAR